BEGIN:VCALENDAR
VERSION:2.0
PRODID:-//Cycling BC - ECPv6.10.1.1//NONSGML v1.0//EN
CALSCALE:GREGORIAN
METHOD:PUBLISH
X-ORIGINAL-URL:https://cyclingbc.net
X-WR-CALDESC:Events for Cycling BC
REFRESH-INTERVAL;VALUE=DURATION:PT1H
X-Robots-Tag:noindex
X-PUBLISHED-TTL:PT1H
BEGIN:VTIMEZONE
TZID:America/Vancouver
BEGIN:DAYLIGHT
TZOFFSETFROM:-0800
TZOFFSETTO:-0700
TZNAME:PDT
DTSTART:20170312T100000
END:DAYLIGHT
BEGIN:STANDARD
TZOFFSETFROM:-0700
TZOFFSETTO:-0800
TZNAME:PST
DTSTART:20171105T090000
END:STANDARD
BEGIN:DAYLIGHT
TZOFFSETFROM:-0800
TZOFFSETTO:-0700
TZNAME:PDT
DTSTART:20180311T100000
END:DAYLIGHT
BEGIN:STANDARD
TZOFFSETFROM:-0700
TZOFFSETTO:-0800
TZNAME:PST
DTSTART:20181104T090000
END:STANDARD
BEGIN:DAYLIGHT
TZOFFSETFROM:-0800
TZOFFSETTO:-0700
TZNAME:PDT
DTSTART:20190310T100000
END:DAYLIGHT
BEGIN:STANDARD
TZOFFSETFROM:-0700
TZOFFSETTO:-0800
TZNAME:PST
DTSTART:20191103T090000
END:STANDARD
BEGIN:DAYLIGHT
TZOFFSETFROM:-0800
TZOFFSETTO:-0700
TZNAME:PDT
DTSTART:20200308T100000
END:DAYLIGHT
BEGIN:STANDARD
TZOFFSETFROM:-0700
TZOFFSETTO:-0800
TZNAME:PST
DTSTART:20201101T090000
END:STANDARD
END:VTIMEZONE
BEGIN:VEVENT
DTSTART;VALUE=DATE:20200421
DTEND;VALUE=DATE:20200422
DTSTAMP:20260419T073130
CREATED:20200130T190836Z
LAST-MODIFIED:20200409T212512Z
UID:59905-1587427200-1587513599@cyclingbc.net
SUMMARY:S.P Interiors Time Trials - POSTPONED
DESCRIPTION:SP Season Postponed Due to COVID-19 Until Further Notice: https://okanaganbikerace.ca/2020-season-postponed \n  \nALWAYS on a Tuesday  \n1730 registration Norris Rd & Old Vernon Rd \n1840 Race Start \n  \nAPRIL \n28th – First TT on 2020 \n( Knox Mtn HC April  21st – NO TT ) \n  \nMAY  \n5th\, 12th \n( NO TT May 19th \, Knox Mtn HC May 26th – NO TT ) \n  \nJUNE \n2nd\, 16th\, 23rd \n( Antenna Rd HC June 9th – NO TT\, \nNO TT June 30th ) \n  \nJULY \n7th\, 21st\, 28th \n( Crystal Mtn HC July 14 – NO TT ) \n  \nAUGUST \n11th\, 18th\, 25th \n( NO TT Aug 4th ) 
URL:https://cyclingbc.net/event/s-p-interiors-time-trials/2020-04-21/
LOCATION:Kelowna\, Kelowna\, BC\, Canada
CATEGORIES:BOA Road Series,Discipline,Region,Road,Series,Thompson Okanagan
END:VEVENT
BEGIN:VEVENT
DTSTART;TZID=America/Vancouver:20180531T173000
DTEND;TZID=America/Vancouver:20180531T203000
DTSTAMP:20260419T073130
CREATED:20180511T173536Z
LAST-MODIFIED:20180511T173536Z
UID:40345-1527787800-1527798600@cyclingbc.net
SUMMARY:BOA - June Springs Hill Climb
DESCRIPTION:Mass Start \nMultiple Categories besides Age & Gender ( SS \, Fixie \, Domestique ) \n  \n1730 registration Sotuh Kelowna Elementary School Saucier Drive \n1840 Race Start \nThursday MAY 31st \nThursday JUNE 28th
URL:https://cyclingbc.net/event/boa-june-springs-hill-climb/2018-05-31/
LOCATION:South Kelowna Elementary\, 4176 Spiers Road\,\, Kelowna\, British Columbia\, V1W 4B5\, Canada
CATEGORIES:BOA Road Series,Discipline,Grassroots Event,Region,Road,Series,Thompson Okanagan
ATTACH;FMTTYPE=image/jpeg:https://cyclingbc.net/wp-content/uploads/2017/05/Bike-Okanagan-Association-BOA-crit.jpg
ORGANIZER;CN="Bike Okanagan Association":MAILTO:slowtwitch@live.ca
GEO:49.8346401;-119.4220404
X-APPLE-STRUCTURED-LOCATION;VALUE=URI;X-ADDRESS=South Kelowna Elementary 4176 Spiers Road Kelowna British Columbia V1W 4B5 Canada;X-APPLE-RADIUS=500;X-TITLE=4176 Spiers Road\,:geo:-119.4220404,49.8346401
END:VEVENT
BEGIN:VEVENT
DTSTART;TZID=America/Vancouver:20180515T173000
DTEND;TZID=America/Vancouver:20180515T203000
DTSTAMP:20260419T073130
CREATED:20180511T173055Z
LAST-MODIFIED:20180511T173055Z
UID:40342-1526405400-1526416200@cyclingbc.net
SUMMARY:BOA - Knox Mtn Hill Climb
DESCRIPTION:BOA – HILL CLIMBS \n\n\nMass Start\n\n\n\nMultiple Categories besides Age & Gender ( SS \, Fixie \, Domestique ) \nKNOX MTN HILL CLIMB \n1730 registration Knox Mtn Drive @ base \n1840 Race Start \nTuesday MAY 15th \nTuesday JUNE 12th \n\n 
URL:https://cyclingbc.net/event/boa-knox-mtn-hill-climb/2018-05-15/
LOCATION:Knox Mountain Park\, 621 Broadway Ave\, Kelowna\, BC\, V1Y 7M8\, Canada
CATEGORIES:BOA Road Series,Discipline,Grassroots Event,Region,Road,Series,Thompson Okanagan
ATTACH;FMTTYPE=image/jpeg:https://cyclingbc.net/wp-content/uploads/2017/05/Bike-Okanagan-Association-BOA-crit.jpg
ORGANIZER;CN="Bike Okanagan Association":MAILTO:slowtwitch@live.ca
GEO:49.9042721;-119.4905124
X-APPLE-STRUCTURED-LOCATION;VALUE=URI;X-ADDRESS=Knox Mountain Park 621 Broadway Ave Kelowna BC V1Y 7M8 Canada;X-APPLE-RADIUS=500;X-TITLE=621 Broadway Ave:geo:-119.4905124,49.9042721
END:VEVENT
BEGIN:VEVENT
DTSTART;TZID=America/Vancouver:20180503T173000
DTEND;TZID=America/Vancouver:20180503T190000
DTSTAMP:20260419T073130
CREATED:20180511T174223Z
LAST-MODIFIED:20180511T174914Z
UID:40348-1525368600-1525374000@cyclingbc.net
SUMMARY:BOA - Brian Van Oene Criteriums
DESCRIPTION:BRIAN VAN OENE CRTITERIUMS\n\nALWAYS on a Thursday\n1730 registration Jim Bailey Rd @ Corner 3\n1840 Race Start45 minute A Group\, 30 minute B Group \, 15 minute C Group Criteriums \n\n\n\nCategories: Junior M & F\, Men’s \, Women’s\, Senior M & F
URL:https://cyclingbc.net/event/boa-brian-van-oene-criteriums/2018-05-03/
LOCATION:Jim Bailey Road\, Kelowna\, Jim Bailey Road\, Kelowna\, BC\, Canada
CATEGORIES:BOA Road Series,Discipline,Grassroots Event,Region,Road,Series,Thompson Okanagan
ATTACH;FMTTYPE=image/jpeg:https://cyclingbc.net/wp-content/uploads/2017/05/Bike-Okanagan-Association-BOA-crit.jpg
ORGANIZER;CN="Bike Okanagan Association":MAILTO:slowtwitch@live.ca
GEO:50.0144464;-119.391737
X-APPLE-STRUCTURED-LOCATION;VALUE=URI;X-ADDRESS=Jim Bailey Road Kelowna Jim Bailey Road Kelowna BC Canada;X-APPLE-RADIUS=500;X-TITLE=Jim Bailey Road:geo:-119.391737,50.0144464
END:VEVENT
BEGIN:VEVENT
DTSTART;TZID=America/Vancouver:20180501T173000
DTEND;TZID=America/Vancouver:20180501T203000
DTSTAMP:20260419T073130
CREATED:20180511T170710Z
LAST-MODIFIED:20180529T175732Z
UID:40314-1525195800-1525206600@cyclingbc.net
SUMMARY:BOA Time Trial
DESCRIPTION:  \nBOA Time Trials – the Race of Truth\n16 km Time Trial race w 4 race categories\n\n\n\n ALWAYS on a Tuesday\n\n\n\n1730 registration Norris Rd & Old Vernon Rd \n1840 Race Start \n\nHeritage\n\nSince 1985 – racers of ALL ages have been rolling the Old Vernon Rd course.   An 8km out & back course with 2 professional flaggers & ~ 231 meter vertical gain.   The race of truth. \n\n*** \nBOA (Bike Okanagan Association) is a Kelowna and area road cycling group\, organizing criteriums\, time trials\, and hill climbs throughout the road season.
URL:https://cyclingbc.net/event/boa-time-trial/2018-05-01/
LOCATION:BC
CATEGORIES:BOA Road Series,Discipline,Grassroots Event,Region,Road,Series,Thompson Okanagan
ATTACH;FMTTYPE=image/jpeg:https://cyclingbc.net/wp-content/uploads/2015/03/Time-Trial-1-e1433186252337.jpg
ORGANIZER;CN="Bike Okanagan Association":MAILTO:slowtwitch@live.ca
END:VEVENT
BEGIN:VEVENT
DTSTART;TZID=America/Vancouver:20170504T173000
DTEND;TZID=America/Vancouver:20170504T193000
DTSTAMP:20260419T073130
CREATED:20170510T184042Z
LAST-MODIFIED:20170510T184042Z
UID:28986-1493919000-1493926200@cyclingbc.net
SUMMARY:Bike Okanagan Association (BOA) Criterium Series
DESCRIPTION:BOA (Bike Okanagan Association) is a Kelowna and area road cycling group\, organizing criteriums\, time trials\, and hill climbs throughout the road season. \nThe BOA Road Series criteriums are always on a Thursday\, at Jim Bailey Road.
URL:https://cyclingbc.net/event/bike-okanagan-association-boa-criterium-series/2017-05-04/
LOCATION:Jim Bailey Road\, Kelowna\, Jim Bailey Road\, Kelowna\, BC\, Canada
CATEGORIES:A-Sanctioned,BOA Road Series,Road,Thompson Okanagan
ATTACH;FMTTYPE=image/jpeg:https://cyclingbc.net/wp-content/uploads/2017/05/Bike-Okanagan-Association-BOA-crit.jpg
ORGANIZER;CN="Bike Okanagan Association":MAILTO:slowtwitch@live.ca
GEO:50.0144464;-119.391737
X-APPLE-STRUCTURED-LOCATION;VALUE=URI;X-ADDRESS=Jim Bailey Road Kelowna Jim Bailey Road Kelowna BC Canada;X-APPLE-RADIUS=500;X-TITLE=Jim Bailey Road:geo:-119.391737,50.0144464
END:VEVENT
BEGIN:VEVENT
DTSTART;TZID=America/Vancouver:20170502T174500
DTEND;TZID=America/Vancouver:20170502T190000
DTSTAMP:20260419T073130
CREATED:20170510T003242Z
LAST-MODIFIED:20170510T173327Z
UID:28953-1493747100-1493751600@cyclingbc.net
SUMMARY:Balance Point Racing Time Trial
DESCRIPTION:BOA (Bike Okanagan Association) is a Kelowna and area road cycling group\, organizing criteriums\, time trials\, and hill climbs throughout the road season. \nThe 2017 Balance Point Racing TT Series is always on a Tuesday\, at Old Vernon & Norris Rd – this is the series’ 32nd year on this course!
URL:https://cyclingbc.net/event/bike-okanagan-association-boa-time-trial/2017-05-02/
LOCATION:BC
CATEGORIES:A-Sanctioned,BOA Road Series,Road,Thompson Okanagan
ATTACH;FMTTYPE=image/jpeg:https://cyclingbc.net/wp-content/uploads/2016/01/2015ProvChamps-TT-SRobarts-WebRes-13.jpg
ORGANIZER;CN="Bike Okanagan Association":MAILTO:slowtwitch@live.ca
END:VEVENT
END:VCALENDAR