BEGIN:VCALENDAR
VERSION:2.0
PRODID:-//Cycling BC - ECPv6.10.1.1//NONSGML v1.0//EN
CALSCALE:GREGORIAN
METHOD:PUBLISH
X-WR-CALNAME:Cycling BC
X-ORIGINAL-URL:https://cyclingbc.net
X-WR-CALDESC:Events for Cycling BC
REFRESH-INTERVAL;VALUE=DURATION:PT1H
X-Robots-Tag:noindex
X-PUBLISHED-TTL:PT1H
BEGIN:VTIMEZONE
TZID:America/Vancouver
BEGIN:DAYLIGHT
TZOFFSETFROM:-0800
TZOFFSETTO:-0700
TZNAME:PDT
DTSTART:20250309T100000
END:DAYLIGHT
BEGIN:STANDARD
TZOFFSETFROM:-0700
TZOFFSETTO:-0800
TZNAME:PST
DTSTART:20251102T090000
END:STANDARD
END:VTIMEZONE
BEGIN:VEVENT
DTSTART;VALUE=DATE:20250725
DTEND;VALUE=DATE:20250728
DTSTAMP:20260423T032201
CREATED:20250212T214817Z
LAST-MODIFIED:20250728T173538Z
UID:86322-1753401600-1753660799@cyclingbc.net
SUMMARY:Canadian National Downhill MTB Championships
DESCRIPTION:We look forward to welcoming you to what will be a fantastic\, action-packed event at the 2025 Sun Peaks National DH Championships. \n \n  \n\nAdditional Info:\nSUN PEAKS EVENT WAIVER\nPLEASE COMPLETE PRIOR TO ARRIVAL THIS IS IN ADDITION TO THE ONE YOU SIGNED WITH REGISTRATION AND THE ONE WITH BIKE PARK TICKETS – Sun Peaks Event Waiver – National DH Championships Waiver \n\nDISCOUNTED ONLINE TICKETS – REGISTERED PARTICIPANTS ONLY – 50% OFF\nStep 1: Click here to access the National DH Championships Bike Park tickets. \nStep 2: Select age category & number of days and add to cart \nStep 3: Enter discount code Nationals2025 in the discount field/apply discount to receive 50% off. \nIf the discount code is not entered at this stage tickets will be charged at the full rate. \n \nStep 4: Checkout and complete purchase (waiver\, Mountain Card and payment) \nNotes:\nThis product will be available to purchase until 8:00am on Friday\, July 25th. Any participants wishing to purchase beyond this will need to visit Guest Services. \nAll tickets have a start date of July 25th and an expiration date of July27th. This means if a guest purchases a 1-day ticket they can use it to ride on Friday\, Saturday\, or Sunday. Same rules apply to 2 days. \n\nACCOMMODATION\nSUN PEAKS GRAND \nBook By: Now until 25th July 2025 \nStay Dates: 24th July 2025 to 28th July 2025 \nPromo Code: BIKENATIONALS \nWeblink: https://reservations.sunpeaksgrand.com/sunpeaksgrand/?requesttype=promotionCode&code=BIKENATIONALS \n  \n3 Peaks Rentals \nCoupon code DHCF \, which can be used at the checkout page to apply a 15% discount on all our properties. Please note that\, depending on the unit\, a 2–3-night minimum stay will apply.\nWeblink: https://www.3peaksrentals.com/ \n  \nNancy Greene’s Cahilty Lodge Race Special \nBook online and save 10% when using the promo code “BIKE” \nWeblink: https://www.cahiltylodge.com/ \n  \nTop of the Mountain Accommodations Racer Special \nSave 20% off properties managed by TOTM\, email or call them directly to get this special rate. \n*For event participants and those staying with them July 25-27 \nWeblink: https://topofthemountain.ca/pb/home \n  \nRV/CAMPING \nhttps://www.sunpeaksresort.com/places-to-stay/rving-camping \nOverflow camping at P5\, or if online P2 is full \nCall Guest Services – 250-578-5474 \n  \n 
URL:https://cyclingbc.net/event/canadian-national-downhill-mtb-championships/
LOCATION:Sun Peaks Resort\, 1280 Alpine Road\, Sun Peaks\, BC\, Canada
CATEGORIES:AAA-Sanctioned,Discipline,Dunbar Summer Series,MTB: Downhill,National Championships,Region,Series,Thompson Okanagan
ATTACH;FMTTYPE=image/jpeg:https://cyclingbc.net/wp-content/uploads/2025/02/Downhill-CBC-Events-Calendar-Default-Image.jpg
ORGANIZER;CN="Dunbar Summer Series":MAILTO:stephenexley@shaw.ca
GEO:50.8775892;-119.9090391
X-APPLE-STRUCTURED-LOCATION;VALUE=URI;X-ADDRESS=Sun Peaks Resort 1280 Alpine Road Sun Peaks BC Canada;X-APPLE-RADIUS=500;X-TITLE=1280 Alpine Road:geo:-119.9090391,50.8775892
END:VEVENT
END:VCALENDAR