BEGIN:VCALENDAR
VERSION:2.0
PRODID:-//Cycling BC - ECPv6.10.1.1//NONSGML v1.0//EN
CALSCALE:GREGORIAN
METHOD:PUBLISH
X-WR-CALNAME:Cycling BC
X-ORIGINAL-URL:https://cyclingbc.net
X-WR-CALDESC:Events for Cycling BC
REFRESH-INTERVAL;VALUE=DURATION:PT1H
X-Robots-Tag:noindex
X-PUBLISHED-TTL:PT1H
BEGIN:VTIMEZONE
TZID:America/Vancouver
BEGIN:DAYLIGHT
TZOFFSETFROM:-0800
TZOFFSETTO:-0700
TZNAME:PDT
DTSTART:20190310T100000
END:DAYLIGHT
BEGIN:STANDARD
TZOFFSETFROM:-0700
TZOFFSETTO:-0800
TZNAME:PST
DTSTART:20191103T090000
END:STANDARD
BEGIN:DAYLIGHT
TZOFFSETFROM:-0800
TZOFFSETTO:-0700
TZNAME:PDT
DTSTART:20200308T100000
END:DAYLIGHT
BEGIN:STANDARD
TZOFFSETFROM:-0700
TZOFFSETTO:-0800
TZNAME:PST
DTSTART:20201101T090000
END:STANDARD
END:VTIMEZONE
BEGIN:VEVENT
DTSTART;VALUE=DATE:20200316
DTEND;VALUE=DATE:20200317
DTSTAMP:20260420T115410
CREATED:20200123T191348Z
LAST-MODIFIED:20200407T211541Z
UID:59717-1584316800-1584403199@cyclingbc.net
SUMMARY:Wentings Monday Night Race & Training Series - POSTPONED
DESCRIPTION:On the advice of Cycling BC and Public Health Officials\, Phoenix Velo has suspended all club events/races until further notice due to the Covid-19 pandemic.\nLearn skills and gain experience before racing begins. Training rides occur March 16th through April 27th. The seasonal points tally and racing begins May 4th!\n\nLocation:\nMission Raceway Park\n\n\nMarch –> September\nNew riders welcome.\nDrop-in – $10.00\nChip fee for drop-ins without a chip – $10.00\nSeason Pass – $100.00\nMust have BC Provincal or UCI Race LicenseSign-up / Registration is open from 5:30 pm\nPractice is open from 6:45 pm to 7:00 pm\nRace Groups start at 7:00 pmREQUIREMENTS TO RACE:\n(All racers must have the following\, or you may not race)\n– Race License (*Required*)\n– Race Number (*Required*)\n– Race Chip (*Required*)
URL:https://cyclingbc.net/event/wentings-wednesday-night-race-series-2/2020-03-16/
LOCATION:Mission Raceway\, 32670 Dyke Road\, Mission \, British Columbia\, V2V 4J5\, Canada
CATEGORIES:Discipline,Phoenix Velo Wentings Wednesday Night Series,Region,Road,Series,Vancouver, Coast & Mountains
ORGANIZER;CN="Phoenix Velo":MAILTO:jaffe48@gmail.com
GEO:49.1277632;-122.3235637
X-APPLE-STRUCTURED-LOCATION;VALUE=URI;X-ADDRESS=Mission Raceway 32670 Dyke Road Mission  British Columbia V2V 4J5 Canada;X-APPLE-RADIUS=500;X-TITLE=32670 Dyke Road:geo:-122.3235637,49.1277632
END:VEVENT
BEGIN:VEVENT
DTSTART;TZID=America/Vancouver:20190410T190000
DTEND;TZID=America/Vancouver:20190410T210000
DTSTAMP:20260420T115410
CREATED:20190131T225851Z
LAST-MODIFIED:20200113T174204Z
UID:47027-1554922800-1554930000@cyclingbc.net
SUMMARY:Wentings Wednesday Night Race Series
DESCRIPTION:Location:\nMission Raceway\n\n\nMarch  September\nNew riders welcome.\nDrop-in – $10.00\nChip fee for drop-ins without a chip – $10.00\nSeason Pass – $100.00\nMust have BC Provincal or UCI Race License\nSign-up / Registration is open from 5:30 pm\nPractice is open from 6:00 pm to 7:00 pm\nRace Groups start at 7:00 pm \nREQUIREMENTS TO RACE:\n(All racers must have the following\, or you may not race)\n– Race License (*Required*)\n– Race Number (*Required*)\n– Race Chip (*Required*) \n\n\nFor more information go to: https://www.phoenixvelo.ca/wednesday/
URL:https://cyclingbc.net/event/wentings-wednesday-night-race-series/2019-04-10/
LOCATION:Mission Raceway\, 32670 Dyke Road\, Mission \, British Columbia\, V2V 4J5\, Canada
CATEGORIES:Discipline,Phoenix Velo Wentings Wednesday Night Series,Region,Road,Series,Vancouver, Coast & Mountains
ATTACH;FMTTYPE=image/png:https://cyclingbc.net/wp-content/uploads/2015/04/Phoenix-velo-youth.png
ORGANIZER;CN="Phoenix Velo":MAILTO:jaffe48@gmail.com
GEO:49.1277632;-122.3235637
X-APPLE-STRUCTURED-LOCATION;VALUE=URI;X-ADDRESS=Mission Raceway 32670 Dyke Road Mission  British Columbia V2V 4J5 Canada;X-APPLE-RADIUS=500;X-TITLE=32670 Dyke Road:geo:-122.3235637,49.1277632
END:VEVENT
END:VCALENDAR