BEGIN:VCALENDAR
VERSION:2.0
PRODID:-//Cycling BC - ECPv6.10.1.1//NONSGML v1.0//EN
CALSCALE:GREGORIAN
METHOD:PUBLISH
X-WR-CALNAME:Cycling BC
X-ORIGINAL-URL:https://cyclingbc.net
X-WR-CALDESC:Events for Cycling BC
REFRESH-INTERVAL;VALUE=DURATION:PT1H
X-Robots-Tag:noindex
X-PUBLISHED-TTL:PT1H
BEGIN:VTIMEZONE
TZID:America/Vancouver
BEGIN:DAYLIGHT
TZOFFSETFROM:-0800
TZOFFSETTO:-0700
TZNAME:PDT
DTSTART:20150308T100000
END:DAYLIGHT
BEGIN:STANDARD
TZOFFSETFROM:-0700
TZOFFSETTO:-0800
TZNAME:PST
DTSTART:20151101T090000
END:STANDARD
BEGIN:DAYLIGHT
TZOFFSETFROM:-0800
TZOFFSETTO:-0700
TZNAME:PDT
DTSTART:20160313T100000
END:DAYLIGHT
BEGIN:STANDARD
TZOFFSETFROM:-0700
TZOFFSETTO:-0800
TZNAME:PST
DTSTART:20161106T090000
END:STANDARD
BEGIN:DAYLIGHT
TZOFFSETFROM:-0800
TZOFFSETTO:-0700
TZNAME:PDT
DTSTART:20170312T100000
END:DAYLIGHT
BEGIN:STANDARD
TZOFFSETFROM:-0700
TZOFFSETTO:-0800
TZNAME:PST
DTSTART:20171105T090000
END:STANDARD
BEGIN:DAYLIGHT
TZOFFSETFROM:-0800
TZOFFSETTO:-0700
TZNAME:PDT
DTSTART:20180311T100000
END:DAYLIGHT
BEGIN:STANDARD
TZOFFSETFROM:-0700
TZOFFSETTO:-0800
TZNAME:PST
DTSTART:20181104T090000
END:STANDARD
BEGIN:DAYLIGHT
TZOFFSETFROM:-0800
TZOFFSETTO:-0700
TZNAME:PDT
DTSTART:20190310T100000
END:DAYLIGHT
BEGIN:STANDARD
TZOFFSETFROM:-0700
TZOFFSETTO:-0800
TZNAME:PST
DTSTART:20191103T090000
END:STANDARD
BEGIN:DAYLIGHT
TZOFFSETFROM:-0800
TZOFFSETTO:-0700
TZNAME:PDT
DTSTART:20200308T100000
END:DAYLIGHT
BEGIN:STANDARD
TZOFFSETFROM:-0700
TZOFFSETTO:-0800
TZNAME:PST
DTSTART:20201101T090000
END:STANDARD
BEGIN:DAYLIGHT
TZOFFSETFROM:-0800
TZOFFSETTO:-0700
TZNAME:PDT
DTSTART:20210314T100000
END:DAYLIGHT
BEGIN:STANDARD
TZOFFSETFROM:-0700
TZOFFSETTO:-0800
TZNAME:PST
DTSTART:20211107T090000
END:STANDARD
BEGIN:DAYLIGHT
TZOFFSETFROM:-0800
TZOFFSETTO:-0700
TZNAME:PDT
DTSTART:20220313T100000
END:DAYLIGHT
BEGIN:STANDARD
TZOFFSETFROM:-0700
TZOFFSETTO:-0800
TZNAME:PST
DTSTART:20221106T090000
END:STANDARD
BEGIN:DAYLIGHT
TZOFFSETFROM:-0800
TZOFFSETTO:-0700
TZNAME:PDT
DTSTART:20230312T100000
END:DAYLIGHT
BEGIN:STANDARD
TZOFFSETFROM:-0700
TZOFFSETTO:-0800
TZNAME:PST
DTSTART:20231105T090000
END:STANDARD
END:VTIMEZONE
BEGIN:VEVENT
DTSTART;VALUE=DATE:20230512
DTEND;VALUE=DATE:20230515
DTSTAMP:20260423T054130
CREATED:20230312T044832Z
LAST-MODIFIED:20241217T164949Z
UID:77473-1683849600-1684108799@cyclingbc.net
SUMMARY:Salty Dog Enduro
DESCRIPTION:Sunday May 14\, Salty Dog 6 Hour Enduro \nA super rad family fun grassroots event creating memories to last a life time. Race Solo\, with Friends and/or Family\, all ages welcome and encouraged to ride. \nThe Salty Dog 6-Hour Enduro is one of the longest running mountain bike races in B.C. – Traditionally\, it has been an event where you could ride solo or in a team of 2 for 6 hours on some of the best trails in Salmon Arm\, B.C. Cyclists of all ages could join in the fun with the Salty Pup race\, the 3-Hour Enduro\, and the full 6-Hour Enduro.
URL:https://cyclingbc.net/event/salty-dog-enduro-3/
LOCATION:Salmon Arm\, Salmon Arm\, BC\, Canada
CATEGORIES:A-Sanctioned,Discipline,Kootenay Rockies,MTB: Enduro,Region,Series
GEO:50.7001034;-119.2838443
END:VEVENT
BEGIN:VEVENT
DTSTART;VALUE=DATE:20190512
DTEND;VALUE=DATE:20190513
DTSTAMP:20260423T054130
CREATED:20181212T214702Z
LAST-MODIFIED:20241220T095636Z
UID:45670-1557619200-1557705599@cyclingbc.net
SUMMARY:Salty Dog
DESCRIPTION:Details TBA \n  \nGo to http://skookumcycleandski.com/wp/salty-dog-enduro/ for more information
URL:https://cyclingbc.net/event/salty-dog/
LOCATION:Salmon Arm\, Salmon Arm\, BC\, Canada
CATEGORIES:Discipline,Featured,Grassroots Event,Kootenay Rockies,MTB: Cross Country,MTB: Enduro,Region,Series,Youth Race
ATTACH;FMTTYPE=image/jpeg:https://cyclingbc.net/wp-content/uploads/2018/05/Salty-Dog-2011-035-300x225.jpg
ORGANIZER;CN="Skookum Cycle & Ski":MAILTO:events@skookumcycyle.com
GEO:50.7001034;-119.2838443
END:VEVENT
BEGIN:VEVENT
DTSTART;TZID=America/Vancouver:20161113T090000
DTEND;TZID=America/Vancouver:20161113T130000
DTSTAMP:20260423T054130
CREATED:20160818T000400Z
LAST-MODIFIED:20241222T112830Z
UID:23392-1479027600-1479042000@cyclingbc.net
SUMMARY:Slammin' Arm CX - BC Interior Cyclocross Series Final
DESCRIPTION:Categories for all abilities! Kids races! Awards for overall series winners! \n\n\nBC Interior Cyclocross Series races happen rain or shine. Courses consist of 2-3 km of doubletrack\, singletrack\, gravel\, grass\, sand mud\, pavement\, pathways\, and other mixed surfaces. All races contain obstacles\, barriers\, and run-ups. This is the most fun you will have on two wheels! \nAll participants need a valid Cycling BC licence – register here.
URL:https://cyclingbc.net/event/slammin-arm-cx-bc-interior-cyclocross-series-final/
LOCATION:Salmon Arm\, Salmon Arm\, BC\, Canada
CATEGORIES:Cyclocross,Kootenay Rockies
ATTACH;FMTTYPE=image/jpeg:https://cyclingbc.net/wp-content/uploads/2016/01/20151129-DSC_0527-e1454104815867.jpg
GEO:50.7001034;-119.2838443
END:VEVENT
BEGIN:VEVENT
DTSTART;TZID=America/Vancouver:20151018T090000
DTEND;TZID=America/Vancouver:20151018T130000
DTSTAMP:20260423T054130
CREATED:20150819T001546Z
LAST-MODIFIED:20241223T072449Z
UID:17659-1445158800-1445173200@cyclingbc.net
SUMMARY:Salmon Arm CX
DESCRIPTION:Kids race is FREE! \nAll participants (except kids) need a valid Cycling BC licence. If you don’t have one\, you can purchase a one day licence for $10
URL:https://cyclingbc.net/event/salmon-arm-cx/2015-10-18/
LOCATION:Salmon Arm\, Salmon Arm\, BC\, Canada
CATEGORIES:Cyclocross,Kootenay Rockies
ATTACH;FMTTYPE=image/jpeg:https://cyclingbc.net/wp-content/uploads/2015/01/10348615_717099415037130_705222818797704331_n.jpg
ORGANIZER;CN="ChainLine Cycle":MAILTO:bikes@chainlinecycle.com
GEO:50.7001034;-119.2838443
END:VEVENT
END:VCALENDAR