BEGIN:VCALENDAR
VERSION:2.0
PRODID:-//Cycling BC - ECPv6.10.1.1//NONSGML v1.0//EN
CALSCALE:GREGORIAN
METHOD:PUBLISH
X-WR-CALNAME:Cycling BC
X-ORIGINAL-URL:https://cyclingbc.net
X-WR-CALDESC:Events for Cycling BC
REFRESH-INTERVAL;VALUE=DURATION:PT1H
X-Robots-Tag:noindex
X-PUBLISHED-TTL:PT1H
BEGIN:VTIMEZONE
TZID:America/Vancouver
BEGIN:DAYLIGHT
TZOFFSETFROM:-0800
TZOFFSETTO:-0700
TZNAME:PDT
DTSTART:20170312T100000
END:DAYLIGHT
BEGIN:STANDARD
TZOFFSETFROM:-0700
TZOFFSETTO:-0800
TZNAME:PST
DTSTART:20171105T090000
END:STANDARD
BEGIN:DAYLIGHT
TZOFFSETFROM:-0800
TZOFFSETTO:-0700
TZNAME:PDT
DTSTART:20180311T100000
END:DAYLIGHT
BEGIN:STANDARD
TZOFFSETFROM:-0700
TZOFFSETTO:-0800
TZNAME:PST
DTSTART:20181104T090000
END:STANDARD
END:VTIMEZONE
BEGIN:VEVENT
DTSTART;TZID=America/Vancouver:20180518T083000
DTEND;TZID=America/Vancouver:20180518T143000
DTSTAMP:20260422T030344
CREATED:20180514T170424Z
LAST-MODIFIED:20241221T115253Z
UID:40649-1526632200-1526653800@cyclingbc.net
SUMMARY:iRide School @ Sunnyside Elementary
DESCRIPTION:Dates: May 18\, 2018 – REGISTER NOW \nLearn how best to prepare for your iRide experience! Visit our Parent Get-Ready page to learn tips\, tricks and complete the required paperwork – HERE \nAfter your event is complete\, please explore our video and photo gallery HERE and share your favourite items with our program supporters to help us grow iRide next year. \nEvent Supporters: \n\n\n\nSupporter\nTwitter\nFacebook\n\n\nCycling BC\n@cyclingbc\nPage\n\n\nAdera\n@aderahome\nPage\n\n\n\nTry these tags \n#iride               #ilovemybike               #iridefast         #irideallbymyself      #iridewithfriends
URL:https://cyclingbc.net/event/iride-05-18-2018/
LOCATION:Sunnyside Elementary\, 2828 159 Street\, Surrey\, British Columbia\, V3S 0E5\, Canada
CATEGORIES:Vancouver, Coast & Mountains
ORGANIZER;CN="Cycling BC HopOn":MAILTO:hopon@cyclingbc.net
GEO:49.0548725;-122.7822751
X-APPLE-STRUCTURED-LOCATION;VALUE=URI;X-ADDRESS=Sunnyside Elementary 2828 159 Street Surrey British Columbia V3S 0E5 Canada;X-APPLE-RADIUS=500;X-TITLE=2828 159 Street:geo:-122.7822751,49.0548725
END:VEVENT
BEGIN:VEVENT
DTSTART;TZID=America/Vancouver:20170328T083000
DTEND;TZID=America/Vancouver:20170330T150000
DTSTAMP:20260422T030344
CREATED:20170314T134136Z
LAST-MODIFIED:20241222T091436Z
UID:27838-1490689800-1490886000@cyclingbc.net
SUMMARY:iRide @ Sunnyside Elementary
DESCRIPTION:Dates: March 28th. March 29th\, March 30th\, 2017 – REGISTER NOW – *Use Zone 4 drop-down menu* \nLearn how best to prepare for your iRide experience! Visit our Parent Get-Ready page to learn tips\, tricks and complete the required paperwork – HERE \nAfter your event is complete\, please explore our video and photo gallery HERE and share your favourite items with our program supporters to help us grow iRide next year. \nEvent Supporters: \n\n\n\nSupporter\nTwitter\nFacebook\n\n\nCycling BC\n@cyclingbc\nPage\n\n\nAdera\n@aderahome\nPage\n\n\n\nTry these tags \n#iride               #ilovemybike               #iridefast         #irideallbymyself      #iridewithfriends
URL:https://cyclingbc.net/event/iride-03-28-2017-2/
LOCATION:Sunnyside Elementary\, 2828 159 Street\, Surrey\, British Columbia\, V3S 0E5\, Canada
CATEGORIES:Vancouver, Coast & Mountains
ORGANIZER;CN="Cycling BC HopOn":MAILTO:hopon@cyclingbc.net
GEO:49.0548725;-122.7822751
X-APPLE-STRUCTURED-LOCATION;VALUE=URI;X-ADDRESS=Sunnyside Elementary 2828 159 Street Surrey British Columbia V3S 0E5 Canada;X-APPLE-RADIUS=500;X-TITLE=2828 159 Street:geo:-122.7822751,49.0548725
END:VEVENT
END:VCALENDAR